BEGIN:VCALENDAR
VERSION:2.0
PRODID:-//YiLo - ECPv6.15.16//NONSGML v1.0//EN
CALSCALE:GREGORIAN
METHOD:PUBLISH
X-WR-CALNAME:YiLo
X-ORIGINAL-URL:https://yilo.com
X-WR-CALDESC:Events for YiLo
REFRESH-INTERVAL;VALUE=DURATION:PT1H
X-Robots-Tag:noindex
X-PUBLISHED-TTL:PT1H
BEGIN:VTIMEZONE
TZID:America/Phoenix
BEGIN:STANDARD
TZOFFSETFROM:-0700
TZOFFSETTO:-0700
TZNAME:MST
DTSTART:20250101T000000
END:STANDARD
END:VTIMEZONE
BEGIN:VEVENT
DTSTART;VALUE=DATE:20260204
DTEND;VALUE=DATE:20260206
DTSTAMP:20260421T164909
CREATED:20250602T185427Z
LAST-MODIFIED:20260126T180641Z
UID:247818-1770163200-1770335999@yilo.com
SUMMARY:🚬💥 Cigaweeds 6-Pack Pre-Rolls – BOGO Madness! 🌬️🔥
DESCRIPTION:Buy 1\, Get 1 FREE – Every Wednesday and Thursday \nLight up your week with Cigaweeds 6-pack pre-rolls — each pack loaded with six .75g joints\, and now they’re Buy One\, Get One FREE for just $25! \n💨 That’s 12 pre-rolls total when you snag this deal🔥 Smooth-burning\, terp-rich .75g rolls💵 Only $25 – BOGO style! \n📍 In-store only🚫 No rainchecks🚨 While Supplies Last – don’t miss it! \nhttp://
URL:https://yilo.com/event/%f0%9f%9a%ac%f0%9f%92%a5-cigaweeds-6-pack-pre-rolls-bogo-madness-%f0%9f%8c%ac%ef%b8%8f%f0%9f%94%a5-2/
ATTACH;FMTTYPE=image/jpeg:https://yilo.com/wp-content/uploads/2025/06/Cigaweeds-Logo.jpeg
END:VEVENT
BEGIN:VEVENT
DTSTART;VALUE=DATE:20260202
DTEND;VALUE=DATE:20260203
DTSTAMP:20260421T164909
CREATED:20250420T171352Z
LAST-MODIFIED:20260126T181515Z
UID:135959-1769990400-1770076799@yilo.com
SUMMARY:Simply Twisted / High West BOGO
DESCRIPTION:🔥 Simply Twisted & High West BOGO 🔥 \nStart your week with a twist!Every Monday \, grab the Simply Twisted & High West 2-Pack (.5g each) Prerolls for just $6 and get 1 Free! 💨💸 \n✨ Smooth. Potent. Simply Twisted.Two perfectly rolled minis to kick off your week the right way. \n📅 Every Monday💰 Only $6📍 While supplies last | Must be 21+
URL:https://yilo.com/event/simply-twisted-bogo-mondays/
END:VEVENT
BEGIN:VEVENT
DTSTART;VALUE=DATE:20260201
DTEND;VALUE=DATE:20260202
DTSTAMP:20260421T164909
CREATED:20250826T203639Z
LAST-MODIFIED:20260126T180411Z
UID:453936-1769904000-1769990399@yilo.com
SUMMARY:🌿🚗 Highway 14 Half Ounce – $30 Every Sunday! 🚗🌿
DESCRIPTION:Every Sunday\, grab a 14g bag (Half Ounce) of Highway 14 Flower 🌸✨👉 Normally $50👉 40% OFF = Just $30! 💰🔥 \nPerfect Sunday vibes for less 💨😎Available while supplies last! \nhttp://
URL:https://yilo.com/event/%f0%9f%8c%bf%f0%9f%9a%97-highway-14-half-ounce-30-every-sunday-%f0%9f%9a%97%f0%9f%8c%bf/
ATTACH;FMTTYPE=image/jpeg:https://yilo.com/wp-content/uploads/2025/08/Highway-14.jpg
END:VEVENT
BEGIN:VEVENT
DTSTART;VALUE=DATE:20260130
DTEND;VALUE=DATE:20260131
DTSTAMP:20260421T164909
CREATED:20251023T185600Z
LAST-MODIFIED:20260126T180516Z
UID:645325-1769731200-1769817599@yilo.com
SUMMARY:🌿 $10 High Octave 1/8th Fridays are back! 🌿
DESCRIPTION:Turn up your weekend with High Octave 1/8ths for just $10 💨🔥 \n🗓️ Every Friday⚡ While supplies last📍 YiLo Arcadia + YiLo Thunderbird \nDon’t sleep on this deal\, elevate your Friday with some High Octave greens 🌱💚
URL:https://yilo.com/event/%f0%9f%8c%bf-10-high-octave-1-8th-fridays-are-back-%f0%9f%8c%bf/
ATTACH;FMTTYPE=image/webp:https://yilo.com/wp-content/uploads/2025/10/High-Westy-Logo.webp
END:VEVENT
BEGIN:VEVENT
DTSTART;VALUE=DATE:20260130
DTEND;VALUE=DATE:20260131
DTSTAMP:20260421T164909
CREATED:20250718T163339Z
LAST-MODIFIED:20260126T181029Z
UID:354400-1769731200-1769817599@yilo.com
SUMMARY:💎 Diamond Westys BOGO 💨
DESCRIPTION:🔥 Buy One Get One FREE on 1G Diamond-Infused Pre-Rolls – only $12 each!🗓️ Every Tuesday & Friday📍 YiLo Dispensary🚫 No limit • No stacking • While supplies last! \nTreat yourself to twice the fire for the price of one! 💥💨
URL:https://yilo.com/event/%f0%9f%92%8e-diamond-westys-bogo-%f0%9f%92%a8/
ATTACH;FMTTYPE=image/webp:https://yilo.com/wp-content/uploads/2025/07/Diamond_Westy-logo.webp
END:VEVENT
BEGIN:VEVENT
DTSTART;VALUE=DATE:20260130
DTEND;VALUE=DATE:20260131
DTSTAMP:20260421T164909
CREATED:20250421T162209Z
LAST-MODIFIED:20260119T211648Z
UID:137781-1769731200-1769817599@yilo.com
SUMMARY:YiLo Grab Bag Giveaway!
DESCRIPTION:🎁🔥 YiLo Grab Bag Giveaway! 🔥🎁\nFriday\, January 30th – One Day Only! \nKick off your weekend with a bag full of goodies!\nSpend $100+tax and score a FREE YiLo Grab Bag loaded with THC-infused products 🍫💨 \n✨ Mystery treats. Major value. Pure fire. ✨\nWhether you’re shopping for edibles\, pre-rolls\, or just vibing—this deal’s for YOU. \n🛍️ Spend $100+tax\, Get a FREE Grab Bag\n📅 Friday\, October 31st\n⏳ While supplies last\n🚫 Limit 1 per patient \nDon’t miss your chance to snag this exclusive giveaway—once they’re gone\, they’re GONE! 🏃‍♂️💨
URL:https://yilo.com/event/yilo-grab-bag-giveaway/
ATTACH;FMTTYPE=image/png:https://yilo.com/wp-content/uploads/2025/04/Yilo-Flower-Logo-1.png
END:VEVENT
BEGIN:VEVENT
DTSTART;VALUE=DATE:20260130
DTEND;VALUE=DATE:20260201
DTSTAMP:20260421T164909
CREATED:20250421T154326Z
LAST-MODIFIED:20260126T180556Z
UID:137761-1769731200-1769903999@yilo.com
SUMMARY:Presidential Infused Pre Roll Special
DESCRIPTION:🌟🔥 PRESIDENTIAL POWER DEAL! 🔥🌟Every Fridy and Saturday –  \nSmoke like a boss this weekend!Buy ANY infused Presidential Pre-Roll or Blunt💥 GET AN INFUSED PRE-ROLL FREE 💥 \nThat’s double the fire\, double the flavor –for the price of one. 💨😤 \n🗓️ EVERY FRIDAY and SATURDAY!! 🛒 While supplies last – don’t sleep on it! \nPull up. Spark up. Stay Presidential. 🇺🇸👑 \nPresidential
URL:https://yilo.com/event/presidential-infused-pre-roll-special/
ATTACH;FMTTYPE=image/jpeg:https://yilo.com/wp-content/uploads/2025/04/presidential-logo.jpg
END:VEVENT
BEGIN:VEVENT
DTSTART;TZID=America/Phoenix:20260128T080000
DTEND;TZID=America/Phoenix:20260128T170000
DTSTAMP:20260421T164909
CREATED:20260126T182400Z
LAST-MODIFIED:20260126T182405Z
UID:968575-1769587200-1769619600@yilo.com
SUMMARY:💎 ABSTRAKT LIQUID DIAMOND AIO – BOGO! 💎
DESCRIPTION:✨ $35 – 1g📆 Every Other Wednesday🎁 BUY ONE\, GET ONE FREE \nDouble the diamond\, double the vibes 🌬️🔥Limited quantities—don’t miss out! ⏳💨 \n📍 Available at your local YiLo💥 Elevate your midweek like never before!
URL:https://yilo.com/event/%f0%9f%92%8e-abstrakt-liquid-diamond-aio-bogo-%f0%9f%92%8e/
ATTACH;FMTTYPE=image/png:https://yilo.com/wp-content/uploads/2026/01/Abtrsakt-LOGO.png
END:VEVENT
BEGIN:VEVENT
DTSTART;TZID=America/Phoenix:20260128T080000
DTEND;TZID=America/Phoenix:20260128T170000
DTSTAMP:20260421T164909
CREATED:20260126T182008Z
LAST-MODIFIED:20260126T182008Z
UID:968572-1769587200-1769619600@yilo.com
SUMMARY:🔥 BOGO ALERT – Crescendo Top Tier Eighths 🔥
DESCRIPTION:💨 Every Monday & Wednesday✨ Crescendo Top Tier 1/8ths – $30🎁 BUY ONE\, GET ONE FREE \nThat’s right—premium flower\, top-tier quality\, double the eighths for the same price 👀🌿 \n📅 Mondays & Wednesdays only📍 While supplies last \nDon’t sleep on this deal—stock up and elevate your week 🚀😮‍💨
URL:https://yilo.com/event/%f0%9f%94%a5-bogo-alert-crescendo-top-tier-eighths-%f0%9f%94%a5/
ATTACH;FMTTYPE=image/png:https://yilo.com/wp-content/uploads/2026/01/Crescendo-LOGO.png
END:VEVENT
BEGIN:VEVENT
DTSTART;VALUE=DATE:20260128
DTEND;VALUE=DATE:20260130
DTSTAMP:20260421T164909
CREATED:20250602T184409Z
LAST-MODIFIED:20260119T211746Z
UID:247812-1769558400-1769731199@yilo.com
SUMMARY:🚬💥 Cigaweeds 6-Pack Pre-Rolls – BOGO Madness! 🌬️🔥
DESCRIPTION:Buy 1\, Get 1 FREE – Every Wednesday and Thursday!!! \nLight up your week with Cigaweeds 6-pack pre-rolls — each pack loaded with six .75g joints\, and now they’re Buy One\, Get One FREE for just $25! \n💨 That’s 12 pre-rolls total when you snag this deal🔥 Smooth-burning\, terp-rich .75g rolls💵 Only $25 – BOGO style! \n📍 In-store only🚫 No rainchecks🚨 While Supplies Last – don’t miss it! \nhttp://
URL:https://yilo.com/event/%f0%9f%9a%ac%f0%9f%92%a5-cigaweeds-6-pack-pre-rolls-bogo-madness-%f0%9f%8c%ac%ef%b8%8f%f0%9f%94%a5/
ATTACH;FMTTYPE=image/jpeg:https://yilo.com/wp-content/uploads/2025/06/Cigaweeds-Logo.jpeg
END:VEVENT
BEGIN:VEVENT
DTSTART;VALUE=DATE:20260127
DTEND;VALUE=DATE:20260128
DTSTAMP:20260421T164909
CREATED:20251023T223540Z
LAST-MODIFIED:20260126T180946Z
UID:646140-1769472000-1769558399@yilo.com
SUMMARY:💎 Diamond Westys BOGO 💨
DESCRIPTION:🔥 Buy One Get One FREE on 1G Diamond-Infused Pre-Rolls – only $12 each!🗓️ Every Tuesday & Friday📍 YiLo Dispensary🚫 No limit • No stacking • While supplies last! \nTreat yourself to twice the fire for the price of one! 💥💨
URL:https://yilo.com/event/%f0%9f%92%8e-diamond-westys-bogo-%f0%9f%92%a8-2/
END:VEVENT
END:VCALENDAR